BEGIN:VCALENDAR
VERSION:2.0
PRODID:-//hacksw/handcal//NONSGML v1.0//EN
CALSCALE:GREGORIAN
BEGIN:VEVENT
ORGANIZER;CN=Vaccinex, Inc. :MAILTO:no-reply@mail.gcs-web.com
DTEND:20260625T040000Z
UID:e281f61a-848f-4da8-8a05-25edf6af4d58
DTSTAMP:1777128926
LOCATION:https://convention.bio.org/registration
DESCRIPTION:Event Details https://ir.vaccinex.com/events/event-details/bio-international-convention-2\n\nWebcast: https://convention.bio.org/registration
URL;VALUE=URI:https://convention.bio.org/registration
SUMMARY:Vaccinex, Inc.  - BIO International Convention
DTSTART:20260622T040000Z
END:VEVENT
END:VCALENDAR